BEGIN:VCALENDAR
VERSION:2.0
PRODID:-//YPN Reno Tahoe - ECPv6.15.20//NONSGML v1.0//EN
CALSCALE:GREGORIAN
METHOD:PUBLISH
X-WR-CALNAME:YPN Reno Tahoe
X-ORIGINAL-URL:https://renotahoeypn.com
X-WR-CALDESC:Events for YPN Reno Tahoe
REFRESH-INTERVAL;VALUE=DURATION:PT1H
X-Robots-Tag:noindex
X-PUBLISHED-TTL:PT1H
BEGIN:VTIMEZONE
TZID:America/Los_Angeles
BEGIN:DAYLIGHT
TZOFFSETFROM:-0800
TZOFFSETTO:-0700
TZNAME:PDT
DTSTART:20200308T100000
END:DAYLIGHT
BEGIN:STANDARD
TZOFFSETFROM:-0700
TZOFFSETTO:-0800
TZNAME:PST
DTSTART:20201101T090000
END:STANDARD
BEGIN:DAYLIGHT
TZOFFSETFROM:-0800
TZOFFSETTO:-0700
TZNAME:PDT
DTSTART:20210314T100000
END:DAYLIGHT
BEGIN:STANDARD
TZOFFSETFROM:-0700
TZOFFSETTO:-0800
TZNAME:PST
DTSTART:20211107T090000
END:STANDARD
BEGIN:DAYLIGHT
TZOFFSETFROM:-0800
TZOFFSETTO:-0700
TZNAME:PDT
DTSTART:20220313T100000
END:DAYLIGHT
BEGIN:STANDARD
TZOFFSETFROM:-0700
TZOFFSETTO:-0800
TZNAME:PST
DTSTART:20221106T090000
END:STANDARD
END:VTIMEZONE
BEGIN:VEVENT
DTSTART;TZID=America/Los_Angeles:20210301T120000
DTEND;TZID=America/Los_Angeles:20210301T130000
DTSTAMP:20260423T034612
CREATED:20171107T213513Z
LAST-MODIFIED:20210225T161632Z
UID:7491-1614600000-1614603600@renotahoeypn.com
SUMMARY:Professional Development Committee Meeting
DESCRIPTION:Location TBD connect Brock Marquez\, bmarquez@dicksonrealty.com or Taylor Russo\, trusso@guildmortgage.net for meeting info and invites. \n 
URL:https://renotahoeypn.com/event/committee-professional-development-2021-03-02/
LOCATION:Nevada
ATTACH;FMTTYPE=image/jpeg:https://renotahoeypn.com/wp-content/uploads/2017/11/commitee_meeting.jpg
END:VEVENT
BEGIN:VEVENT
DTSTART;TZID=America/Los_Angeles:20210301T173000
DTEND;TZID=America/Los_Angeles:20210301T183000
DTSTAMP:20260423T034612
CREATED:20180703T204214Z
LAST-MODIFIED:20210225T160343Z
UID:7237-1614619800-1614623400@renotahoeypn.com
SUMMARY:Attract and Retain Committee Meeting
DESCRIPTION:When: First Monday of every month @ 5:30 \nLocation: TBD \nContact for more information: Nallely Mena\, nallely@hwfunding.com & Joe Fahrendorf\, Joe@775law.com
URL:https://renotahoeypn.com/event/attract-and-retain-committee-meeting-2021-03-03/
LOCATION:Nevada
ATTACH;FMTTYPE=image/jpeg:https://renotahoeypn.com/wp-content/uploads/2018/07/meeting.jpg
END:VEVENT
BEGIN:VEVENT
DTSTART;TZID=America/Los_Angeles:20210303T113000
DTEND;TZID=America/Los_Angeles:20210303T130000
DTSTAMP:20260423T034612
CREATED:20210224T191640Z
LAST-MODIFIED:20210301T215459Z
UID:8305-1614771000-1614776400@renotahoeypn.com
SUMMARY:March Power Lunch
DESCRIPTION:Please join us Wednesday March 3rd to hear all about the booming real estate market in our local area. We will be learning about the trends\, forecasts\, and what to expect from: \n– Beau Keenan\, Dickson Realty\n– Tom Fennell\, Dickson Commercial Group\n– Aaron West\, Nevada Builders Association \nLunch will be provided. \nWhen: March 3rd @ 11:30 am \nWhere: The Hive\, 100 N Arlington Ave Ste 200 \n$25 for members/ 35$ for non-members \n\n \n\n\n\nMarch Power Lunch\n\n\nMember $25.00 USDNon-Member $35.00 USD
URL:https://renotahoeypn.com/event/march-power-lunch/
LOCATION:The Hive\, 255 W Moana\, Reno\, NV\, United States
ATTACH;FMTTYPE=image/jpeg:https://renotahoeypn.com/wp-content/uploads/2021/02/154522514_3893337857385479_8463801874874827842_o.jpg
END:VEVENT
BEGIN:VEVENT
DTSTART;TZID=America/Los_Angeles:20210323T180000
DTEND;TZID=America/Los_Angeles:20210323T193000
DTSTAMP:20260423T034612
CREATED:20171107T213215Z
LAST-MODIFIED:20210319T153306Z
UID:7261-1616522400-1616527800@renotahoeypn.com
SUMMARY:Community Involvement Committee Meeting
DESCRIPTION:Contact for more inforamtion: Ashleigh Foster ashleigh.foster@uwnns.org & Ryan Nelson r.nelson@edwardjones.com
URL:https://renotahoeypn.com/event/community-involvement-committee-meeting-2021-03-08/
LOCATION:Mari Chuy’s Midtown\, 764 S Virginia St.\, Reno\, NV\, 89501
ATTACH;FMTTYPE=image/jpeg:https://renotahoeypn.com/wp-content/uploads/2017/11/community.jpg
END:VEVENT
END:VCALENDAR