BEGIN:VCALENDAR
VERSION:2.0
PRODID:-//YPN Reno Tahoe - ECPv6.15.20//NONSGML v1.0//EN
CALSCALE:GREGORIAN
METHOD:PUBLISH
X-WR-CALNAME:YPN Reno Tahoe
X-ORIGINAL-URL:https://renotahoeypn.com
X-WR-CALDESC:Events for YPN Reno Tahoe
REFRESH-INTERVAL;VALUE=DURATION:PT1H
X-Robots-Tag:noindex
X-PUBLISHED-TTL:PT1H
BEGIN:VTIMEZONE
TZID:America/Los_Angeles
BEGIN:DAYLIGHT
TZOFFSETFROM:-0800
TZOFFSETTO:-0700
TZNAME:PDT
DTSTART:20250309T100000
END:DAYLIGHT
BEGIN:STANDARD
TZOFFSETFROM:-0700
TZOFFSETTO:-0800
TZNAME:PST
DTSTART:20251102T090000
END:STANDARD
BEGIN:DAYLIGHT
TZOFFSETFROM:-0800
TZOFFSETTO:-0700
TZNAME:PDT
DTSTART:20260308T100000
END:DAYLIGHT
BEGIN:STANDARD
TZOFFSETFROM:-0700
TZOFFSETTO:-0800
TZNAME:PST
DTSTART:20261101T090000
END:STANDARD
BEGIN:DAYLIGHT
TZOFFSETFROM:-0800
TZOFFSETTO:-0700
TZNAME:PDT
DTSTART:20270314T100000
END:DAYLIGHT
BEGIN:STANDARD
TZOFFSETFROM:-0700
TZOFFSETTO:-0800
TZNAME:PST
DTSTART:20271107T090000
END:STANDARD
END:VTIMEZONE
BEGIN:VEVENT
DTSTART;TZID=America/Los_Angeles:20260304T173000
DTEND;TZID=America/Los_Angeles:20260304T193000
DTSTAMP:20260425T040401
CREATED:20260111T222636Z
LAST-MODIFIED:20260225T033541Z
UID:49617-1772645400-1772652600@renotahoeypn.com
SUMMARY:First Time Homebuyer 101 - A workshop for people who think they're priced out
DESCRIPTION:First-Time Home Buyer Workshop\n\nThinking about buying a home but not sure where to start — or worried you might be priced out? This practical\, no-pressure workshop is designed for renters\, couples\, roommates\, and solo buyers who want clear\, honest guidance on what it actually takes to buy a home in today’s market. \nJoin a Reno native who works directly with first-time buyers to learn what you really need to know\, including how much you realistically need to save (often less than you think)\, what “good enough” credit looks like\, and a step-by-step breakdown of the buying process so nothing feels mysterious. We’ll also explore how buyers are successfully getting homes for less than asking price and how to decide if buying is the right move for you right now. \nDinner and a complimentary drink will be provided\, and you’ll leave with practical insights you can actually use — whether you plan to buy soon or are just starting to explore your options. \nDate & Time: March 4\, 2026 · 5:30 PM – 7:30 PM\nSpots are limited — Tickets can be purchased below: \nYPN Members – $25.00 \n\nNon Member Attendees – $35.00 \nSponsored by:\nMyer Arroyo Real Estate\, Herron Home\, The A Team – Stanford Mortgage\, and Jacob Althage State Farm.
URL:https://renotahoeypn.com/event/first-time-homebuyer-101/
LOCATION:Craft Wine & Beer\, 2 Martin St\, Reno\, NV\, 89509
ATTACH;FMTTYPE=image/png:https://renotahoeypn.com/wp-content/uploads/2026/01/YPN-Save-the-Date.png
END:VEVENT
END:VCALENDAR